Package: BasicSTARRseq Version: 1.34.0 Command: /Library/Frameworks/R.framework/Resources/bin/R CMD build --keep-empty-dirs --no-resave-data BasicSTARRseq StartedAt: 2025-01-30 17:16:15 -0500 (Thu, 30 Jan 2025) EndedAt: 2025-01-30 17:17:42 -0500 (Thu, 30 Jan 2025) EllapsedTime: 86.9 seconds RetCode: 0 Status: OK PackageFile: BasicSTARRseq_1.34.0.tar.gz PackageFileSize: 551.5 KiB