Package: BasicSTARRseq Version: 1.34.0 Command: /Library/Frameworks/R.framework/Resources/bin/R CMD INSTALL BasicSTARRseq StartedAt: 2025-01-30 15:33:01 -0500 (Thu, 30 Jan 2025) EndedAt: 2025-01-30 15:34:13 -0500 (Thu, 30 Jan 2025) EllapsedTime: 71.9 seconds RetCode: 0 Status: OK