Package: BasicSTARRseq Version: 1.34.0 Command: /home/biocbuild/bbs-3.20-bioc/R/bin/R CMD build --keep-empty-dirs --no-resave-data --md5 BasicSTARRseq StartedAt: 2025-01-30 16:17:15 -0500 (Thu, 30 Jan 2025) EndedAt: 2025-01-30 16:17:52 -0500 (Thu, 30 Jan 2025) EllapsedTime: 37.1 seconds RetCode: 0 Status: OK PackageFile: BasicSTARRseq_1.34.0.tar.gz PackageFileSize: 552.8 KiB