Package: BasicSTARRseq Version: 1.34.0 Command: /home/biocbuild/bbs-3.20-bioc/R/bin/R CMD check --install=check:BasicSTARRseq.install-out.txt --library=/home/biocbuild/bbs-3.20-bioc/R/site-library --timings BasicSTARRseq_1.34.0.tar.gz StartedAt: 2025-01-30 20:04:01 -0500 (Thu, 30 Jan 2025) EndedAt: 2025-01-30 20:06:49 -0500 (Thu, 30 Jan 2025) EllapsedTime: 168.1 seconds RetCode: 0 Status: OK CheckDir: BasicSTARRseq.Rcheck Warnings: 0