Package: BasicSTARRseq Version: 1.34.0 Command: rm -rf BasicSTARRseq.buildbin-libdir && mkdir BasicSTARRseq.buildbin-libdir && F:\biocbuild\bbs-3.20-bioc\R\bin\R.exe CMD INSTALL --build --library=BasicSTARRseq.buildbin-libdir BasicSTARRseq_1.34.0.tar.gz StartedAt: 2025-01-31 08:11:30 -0500 (Fri, 31 Jan 2025) EndedAt: 2025-01-31 08:12:28 -0500 (Fri, 31 Jan 2025) EllapsedTime: 58.6 seconds RetCode: 0 Status: OK PackageFile: BasicSTARRseq_1.34.0.zip PackageFileSize: 648.7 KiB