Package: BasicSTARRseq Version: 1.34.0 Command: /home/biocbuild/R/R/bin/R CMD build --keep-empty-dirs --no-resave-data BasicSTARRseq StartedAt: 2025-01-30 21:42:33 -0000 (Thu, 30 Jan 2025) EndedAt: 2025-01-30 21:43:16 -0000 (Thu, 30 Jan 2025) EllapsedTime: 43.0 seconds RetCode: 0 Status: OK PackageFile: BasicSTARRseq_1.34.0.tar.gz PackageFileSize: 544.8 KiB