Package: BasicSTARRseq Version: 1.34.0 Command: /home/biocbuild/R/R/bin/R CMD check --install=check:BasicSTARRseq.install-out.txt --library=/home/biocbuild/R/R/site-library --no-vignettes --timings BasicSTARRseq_1.34.0.tar.gz StartedAt: 2025-01-31 04:00:34 -0000 (Fri, 31 Jan 2025) EndedAt: 2025-01-31 04:04:28 -0000 (Fri, 31 Jan 2025) EllapsedTime: 234.3 seconds RetCode: 0 Status: OK CheckDir: BasicSTARRseq.Rcheck Warnings: 0