Package: BatchQC Version: 2.2.0 Command: /Library/Frameworks/R.framework/Resources/bin/R CMD build --keep-empty-dirs --no-resave-data BatchQC StartedAt: 2025-02-03 19:10:51 -0500 (Mon, 03 Feb 2025) EndedAt: 2025-02-03 19:11:47 -0500 (Mon, 03 Feb 2025) EllapsedTime: 56.3 seconds RetCode: 0 Status: OK PackageFile: BatchQC_2.2.0.tar.gz PackageFileSize: 3.589 MiB