Package: BatchQC
Version: 2.2.0
Command: rm -rf BatchQC.buildbin-libdir && mkdir BatchQC.buildbin-libdir && /Users/biocbuild/BBS/utils/build-universal.sh BatchQC_2.2.0.tar.gz /Library/Frameworks/R.framework/Resources/bin/R BatchQC.buildbin-libdir
StartedAt: 2024-11-09 16:38:21 -0500 (Sat, 09 Nov 2024)
EndedAt: 2024-11-09 16:38:37 -0500 (Sat, 09 Nov 2024)
EllapsedTime: 15.3 seconds
RetCode: 0
Status: OK
PackageFile: BatchQC_2.2.0.tgz
PackageFileSize: 3.695 <A href="http://en.wikipedia.org/wiki/MiB" target="_blank">MiB</A>