Package: BatchQC Version: 2.2.0 Command: /home/biocbuild/bbs-3.20-bioc/R/bin/R CMD INSTALL BatchQC StartedAt: 2025-02-03 16:02:07 -0500 (Mon, 03 Feb 2025) EndedAt: 2025-02-03 16:02:46 -0500 (Mon, 03 Feb 2025) EllapsedTime: 39.0 seconds RetCode: 0 Status: OK