##############################################################################
##############################################################################
###
### Running command:
###
###   /home/biocbuild/R/R/bin/R CMD INSTALL BatchQC
###
##############################################################################
##############################################################################


* installing to library ‘/home/biocbuild/R/R-4.4.2/site-library’
ERROR: dependency ‘EBSeq’ is not available for package ‘BatchQC’
* removing ‘/home/biocbuild/R/R-4.4.2/site-library/BatchQC’