Package: BatchQC Version: 2.2.0 Command: /home/biocbuild/R/R/bin/R CMD INSTALL BatchQC StartedAt: 2025-02-03 21:17:26 -0000 (Mon, 03 Feb 2025) EndedAt: 2025-02-03 21:17:27 -0000 (Mon, 03 Feb 2025) EllapsedTime: 1.0 seconds RetCode: 1 Status: ERROR