Package: BayesKnockdown
Version: 1.32.0
Maintainer: William Chad Young
MaintainerEmail: wmchad at uw.edu
git_url: https://git.bioconductor.org/packages/BayesKnockdown
git_branch: RELEASE_3_20
git_last_commit: f312b12
git_last_commit_date: 2024-10-29 10:13:05 -0500 (Tue, 29 Oct 2024)