Package: BayesKnockdown Version: 1.32.0 Command: rm -rf BayesKnockdown.buildbin-libdir && mkdir BayesKnockdown.buildbin-libdir && /Users/biocbuild/BBS/utils/build-universal.sh BayesKnockdown_1.32.0.tar.gz /Library/Frameworks/R.framework/Resources/bin/R BayesKnockdown.buildbin-libdir StartedAt: 2025-02-05 14:54:03 -0500 (Wed, 05 Feb 2025) EndedAt: 2025-02-05 14:54:08 -0500 (Wed, 05 Feb 2025) EllapsedTime: 4.5 seconds RetCode: 0 Status: OK PackageFile: BayesKnockdown_1.32.0.tgz PackageFileSize: 226 KiB