Package: BayesKnockdown Version: 1.32.0 Command: F:\biocbuild\bbs-3.20-bioc\R\bin\R.exe CMD INSTALL BayesKnockdown StartedAt: 2025-02-03 15:37:18 -0500 (Mon, 03 Feb 2025) EndedAt: 2025-02-03 15:37:31 -0500 (Mon, 03 Feb 2025) EllapsedTime: 13.7 seconds RetCode: 0 Status: OK