Package: BayesSpace Version: 1.16.0 Command: /Library/Frameworks/R.framework/Resources/bin/R CMD INSTALL BayesSpace StartedAt: 2025-02-03 18:16:58 -0500 (Mon, 03 Feb 2025) EndedAt: 2025-02-03 18:18:12 -0500 (Mon, 03 Feb 2025) EllapsedTime: 73.6 seconds RetCode: 0 Status: OK