Package: BayesSpace Version: 1.16.0 Command: rm -rf BayesSpace.buildbin-libdir && mkdir BayesSpace.buildbin-libdir && F:\biocbuild\bbs-3.20-bioc\R\bin\R.exe CMD INSTALL --build --library=BayesSpace.buildbin-libdir BayesSpace_1.16.0.tar.gz StartedAt: 2025-02-04 08:01:06 -0500 (Tue, 04 Feb 2025) EndedAt: 2025-02-04 08:02:47 -0500 (Tue, 04 Feb 2025) EllapsedTime: 100.7 seconds RetCode: 0 Status: OK PackageFile: BayesSpace_1.16.0.zip PackageFileSize: 1.667 MiB