Package: BayesSpace Version: 1.16.0 Command: chmod a+r BayesSpace -R && F:\biocbuild\bbs-3.20-bioc\R\bin\R.exe CMD build --keep-empty-dirs --no-resave-data BayesSpace StartedAt: 2025-02-03 17:37:58 -0500 (Mon, 03 Feb 2025) EndedAt: 2025-02-03 17:41:40 -0500 (Mon, 03 Feb 2025) EllapsedTime: 222.0 seconds RetCode: 0 Status: OK PackageFile: BayesSpace_1.16.0.tar.gz PackageFileSize: 1024 KiB