Package: BayesSpace Version: 1.16.0 Command: F:\biocbuild\bbs-3.20-bioc\R\bin\R.exe CMD INSTALL BayesSpace StartedAt: 2025-02-03 17:11:27 -0500 (Mon, 03 Feb 2025) EndedAt: 2025-02-03 17:13:10 -0500 (Mon, 03 Feb 2025) EllapsedTime: 102.6 seconds RetCode: 0 Status: OK