Package: BeadDataPackR Version: 1.58.0 Command: rm -rf BeadDataPackR.buildbin-libdir && mkdir BeadDataPackR.buildbin-libdir && /Users/biocbuild/BBS/utils/build-universal.sh BeadDataPackR_1.58.0.tar.gz /Library/Frameworks/R.framework/Resources/bin/R BeadDataPackR.buildbin-libdir StartedAt: 2025-02-01 14:00:35 -0500 (Sat, 01 Feb 2025) EndedAt: 2025-02-01 14:00:41 -0500 (Sat, 01 Feb 2025) EllapsedTime: 5.7 seconds RetCode: 0 Status: OK PackageFile: BeadDataPackR_1.58.0.tgz PackageFileSize: 283.9 KiB