Package: BeadDataPackR Version: 1.58.0 Command: /Library/Frameworks/R.framework/Resources/bin/R CMD check --install=check:BeadDataPackR.install-out.txt --library=/Library/Frameworks/R.framework/Resources/library --no-vignettes --timings BeadDataPackR_1.58.0.tar.gz StartedAt: 2024-11-08 20:57:57 -0500 (Fri, 08 Nov 2024) EndedAt: 2024-11-08 21:01:48 -0500 (Fri, 08 Nov 2024) EllapsedTime: 231.5 seconds RetCode: 0 Status: OK CheckDir: BeadDataPackR.Rcheck Warnings: 0