Package: BeadDataPackR Version: 1.58.0 Command: rm -rf BeadDataPackR.buildbin-libdir && mkdir BeadDataPackR.buildbin-libdir && /Users/biocbuild/BBS/utils/build-universal.sh BeadDataPackR_1.58.0.tar.gz /Library/Frameworks/R.framework/Resources/bin/R BeadDataPackR.buildbin-libdir StartedAt: 2025-01-31 12:22:54 -0500 (Fri, 31 Jan 2025) EndedAt: 2025-01-31 12:23:03 -0500 (Fri, 31 Jan 2025) EllapsedTime: 8.6 seconds RetCode: 0 Status: OK PackageFile: BeadDataPackR_1.58.0.tgz PackageFileSize: 283.6 KiB