Package: BeadDataPackR Version: 1.58.0 Command: /Library/Frameworks/R.framework/Resources/bin/R CMD INSTALL BeadDataPackR StartedAt: 2025-01-30 15:06:42 -0500 (Thu, 30 Jan 2025) EndedAt: 2025-01-30 15:07:02 -0500 (Thu, 30 Jan 2025) EllapsedTime: 20.1 seconds RetCode: 0 Status: OK