Package: BeadDataPackR Version: 1.58.0 Command: /home/biocbuild/R/R/bin/R CMD INSTALL BeadDataPackR StartedAt: 2025-01-30 20:06:00 -0000 (Thu, 30 Jan 2025) EndedAt: 2025-01-30 20:06:22 -0000 (Thu, 30 Jan 2025) EllapsedTime: 21.6 seconds RetCode: 0 Status: OK