Package: BgeeCall Version: 1.22.0 Command: rm -rf BgeeCall.buildbin-libdir && mkdir BgeeCall.buildbin-libdir && /Users/biocbuild/BBS/utils/build-universal.sh BgeeCall_1.22.0.tar.gz /Library/Frameworks/R.framework/Resources/bin/R BgeeCall.buildbin-libdir StartedAt: 2025-02-01 14:01:50 -0500 (Sat, 01 Feb 2025) EndedAt: 2025-02-01 14:02:39 -0500 (Sat, 01 Feb 2025) EllapsedTime: 48.6 seconds RetCode: 0 Status: OK PackageFile: BgeeCall_1.22.0.tgz PackageFileSize: 5.952 MiB