Package: BgeeCall Version: 1.22.0 Command: /Library/Frameworks/R.framework/Resources/bin/R CMD INSTALL BgeeCall StartedAt: 2025-01-30 16:29:12 -0500 (Thu, 30 Jan 2025) EndedAt: 2025-01-30 16:29:57 -0500 (Thu, 30 Jan 2025) EllapsedTime: 44.6 seconds RetCode: 0 Status: OK