Package: BgeeCall Version: 1.22.0 Command: /Library/Frameworks/R.framework/Resources/bin/R CMD build --keep-empty-dirs --no-resave-data BgeeCall StartedAt: 2025-02-03 17:17:22 -0500 (Mon, 03 Feb 2025) EndedAt: 2025-02-03 17:20:42 -0500 (Mon, 03 Feb 2025) EllapsedTime: 200.2 seconds RetCode: 0 Status: OK PackageFile: BgeeCall_1.22.0.tar.gz PackageFileSize: 5.665 MiB