Package: BgeeCall Version: 1.22.0 Command: /Library/Frameworks/R.framework/Resources/bin/R CMD check --install=check:BgeeCall.install-out.txt --library=/Library/Frameworks/R.framework/Resources/library --no-vignettes --timings BgeeCall_1.22.0.tar.gz StartedAt: 2025-02-04 00:09:50 -0500 (Tue, 04 Feb 2025) EndedAt: 2025-02-04 00:20:04 -0500 (Tue, 04 Feb 2025) EllapsedTime: 613.3 seconds RetCode: 0 Status: OK CheckDir: BgeeCall.Rcheck Warnings: 0