Package: BgeeCall Version: 1.22.0 Command: /Library/Frameworks/R.framework/Resources/bin/R CMD INSTALL BgeeCall StartedAt: 2025-02-03 15:57:16 -0500 (Mon, 03 Feb 2025) EndedAt: 2025-02-03 15:58:38 -0500 (Mon, 03 Feb 2025) EllapsedTime: 81.2 seconds RetCode: 0 Status: OK