Package: BgeeCall Version: 1.22.0 Command: rm -rf BgeeCall.buildbin-libdir && mkdir BgeeCall.buildbin-libdir && F:\biocbuild\bbs-3.20-bioc\R\bin\R.exe CMD INSTALL --build --library=BgeeCall.buildbin-libdir BgeeCall_1.22.0.tar.gz StartedAt: 2025-01-31 08:12:48 -0500 (Fri, 31 Jan 2025) EndedAt: 2025-01-31 08:14:09 -0500 (Fri, 31 Jan 2025) EllapsedTime: 80.6 seconds RetCode: 0 Status: OK PackageFile: BgeeCall_1.22.0.zip PackageFileSize: 5.937 MiB