Package: BgeeCall Version: 1.22.0 Command: chmod a+r BgeeCall -R && F:\biocbuild\bbs-3.20-bioc\R\bin\R.exe CMD build --keep-empty-dirs --no-resave-data BgeeCall StartedAt: 2025-01-30 17:28:44 -0500 (Thu, 30 Jan 2025) EndedAt: 2025-01-30 17:30:54 -0500 (Thu, 30 Jan 2025) EllapsedTime: 130.7 seconds RetCode: 0 Status: OK PackageFile: BgeeCall_1.22.0.tar.gz PackageFileSize: 5.665 MiB