Package: BgeeCall Version: 1.22.0 Command: F:\biocbuild\bbs-3.20-bioc\R\bin\R.exe CMD INSTALL BgeeCall StartedAt: 2025-01-30 16:11:32 -0500 (Thu, 30 Jan 2025) EndedAt: 2025-01-30 16:12:54 -0500 (Thu, 30 Jan 2025) EllapsedTime: 82.0 seconds RetCode: 0 Status: OK