Package: BgeeDB Version: 2.32.0 Command: /Library/Frameworks/R.framework/Resources/bin/R CMD build --keep-empty-dirs --no-resave-data BgeeDB StartedAt: 2025-02-03 19:20:50 -0500 (Mon, 03 Feb 2025) EndedAt: 2025-02-03 19:25:33 -0500 (Mon, 03 Feb 2025) EllapsedTime: 283.0 seconds RetCode: 0 Status: OK PackageFile: BgeeDB_2.32.0.tar.gz PackageFileSize: 106.9 KiB