Package: BgeeDB Version: 2.32.0 Command: /home/biocbuild/bbs-3.20-bioc/R/bin/R CMD INSTALL BgeeDB StartedAt: 2025-02-03 15:28:59 -0500 (Mon, 03 Feb 2025) EndedAt: 2025-02-03 15:29:34 -0500 (Mon, 03 Feb 2025) EllapsedTime: 35.0 seconds RetCode: 0 Status: OK