Package: BgeeDB Version: 2.32.0 Command: rm -rf BgeeDB.buildbin-libdir && mkdir BgeeDB.buildbin-libdir && F:\biocbuild\bbs-3.20-bioc\R\bin\R.exe CMD INSTALL --build --library=BgeeDB.buildbin-libdir BgeeDB_2.32.0.tar.gz StartedAt: 2025-02-04 08:02:14 -0500 (Tue, 04 Feb 2025) EndedAt: 2025-02-04 08:03:08 -0500 (Tue, 04 Feb 2025) EllapsedTime: 54.0 seconds RetCode: 0 Status: OK PackageFile: BgeeDB_2.32.0.zip PackageFileSize: 372.5 KiB