Package: BgeeDB Version: 2.32.0 Command: /home/biocbuild/R/R/bin/R CMD INSTALL BgeeDB StartedAt: 2025-02-03 20:48:35 -0000 (Mon, 03 Feb 2025) EndedAt: 2025-02-03 20:49:23 -0000 (Mon, 03 Feb 2025) EllapsedTime: 48.0 seconds RetCode: 0 Status: OK