Package: BiFET Version: 1.26.0 Command: rm -rf BiFET.buildbin-libdir && mkdir BiFET.buildbin-libdir && /Users/biocbuild/BBS/utils/build-universal.sh BiFET_1.26.0.tar.gz /Library/Frameworks/R.framework/Resources/bin/R BiFET.buildbin-libdir StartedAt: 2025-02-01 14:02:39 -0500 (Sat, 01 Feb 2025) EndedAt: 2025-02-01 14:02:51 -0500 (Sat, 01 Feb 2025) EllapsedTime: 12.5 seconds RetCode: 0 Status: OK PackageFile: BiFET_1.26.0.tgz PackageFileSize: 660.5 KiB