Package: BiFET Version: 1.26.0 Command: /home/biocbuild/R/R/bin/R CMD build --keep-empty-dirs --no-resave-data BiFET StartedAt: 2025-01-30 21:54:32 -0000 (Thu, 30 Jan 2025) EndedAt: 2025-01-30 21:55:44 -0000 (Thu, 30 Jan 2025) EllapsedTime: 72.0 seconds RetCode: 0 Status: OK PackageFile: BiFET_1.26.0.tar.gz PackageFileSize: 669.4 KiB