Package: BiFET Version: 1.26.0 Command: /home/biocbuild/R/R/bin/R CMD check --install=check:BiFET.install-out.txt --library=/home/biocbuild/R/R/site-library --no-vignettes --timings BiFET_1.26.0.tar.gz StartedAt: 2025-01-31 04:07:36 -0000 (Fri, 31 Jan 2025) EndedAt: 2025-01-31 04:11:13 -0000 (Fri, 31 Jan 2025) EllapsedTime: 216.4 seconds RetCode: 0 Status: OK CheckDir: BiFET.Rcheck Warnings: 0