Package: BiFET Version: 1.26.0 Command: /home/biocbuild/R/R/bin/R CMD INSTALL BiFET StartedAt: 2025-01-30 20:15:01 -0000 (Thu, 30 Jan 2025) EndedAt: 2025-01-30 20:15:12 -0000 (Thu, 30 Jan 2025) EllapsedTime: 10.6 seconds RetCode: 0 Status: OK