Package: BiSeq Version: 1.46.0 Command: /Library/Frameworks/R.framework/Resources/bin/R CMD check --install=check:BiSeq.install-out.txt --library=/Library/Frameworks/R.framework/Resources/library --no-vignettes --timings BiSeq_1.46.0.tar.gz StartedAt: 2025-02-04 13:03:26 -0500 (Tue, 04 Feb 2025) EndedAt: 2025-02-04 13:09:17 -0500 (Tue, 04 Feb 2025) EllapsedTime: 350.7 seconds RetCode: 0 Status: OK CheckDir: BiSeq.Rcheck Warnings: 0