Package: BiSeq Version: 1.46.0 Command: /Library/Frameworks/R.framework/Resources/bin/R CMD build --keep-empty-dirs --no-resave-data BiSeq StartedAt: 2025-02-03 17:29:20 -0500 (Mon, 03 Feb 2025) EndedAt: 2025-02-03 17:34:07 -0500 (Mon, 03 Feb 2025) EllapsedTime: 287.9 seconds RetCode: 0 Status: OK PackageFile: BiSeq_1.46.0.tar.gz PackageFileSize: 915.3 KiB