Package: BiSeq Version: 1.46.0 Command: chmod a+r BiSeq -R && F:\biocbuild\bbs-3.20-bioc\R\bin\R.exe CMD build --keep-empty-dirs --no-resave-data BiSeq StartedAt: 2025-02-03 17:50:35 -0500 (Mon, 03 Feb 2025) EndedAt: 2025-02-03 17:53:21 -0500 (Mon, 03 Feb 2025) EllapsedTime: 165.5 seconds RetCode: 0 Status: OK PackageFile: BiSeq_1.46.0.tar.gz PackageFileSize: 917.9 KiB