Package: BicARE Version: 1.64.0 Command: /Library/Frameworks/R.framework/Resources/bin/R CMD build --keep-empty-dirs --no-resave-data BicARE StartedAt: 2025-02-03 17:18:26 -0500 (Mon, 03 Feb 2025) EndedAt: 2025-02-03 17:24:29 -0500 (Mon, 03 Feb 2025) EllapsedTime: 362.7 seconds RetCode: 0 Status: OK PackageFile: BicARE_1.64.0.tar.gz PackageFileSize: 460.3 KiB