Package: BicARE Version: 1.64.0 Command: /home/biocbuild/bbs-3.20-bioc/R/bin/R CMD build --keep-empty-dirs --no-resave-data --md5 BicARE StartedAt: 2025-02-03 16:30:13 -0500 (Mon, 03 Feb 2025) EndedAt: 2025-02-03 16:32:19 -0500 (Mon, 03 Feb 2025) EllapsedTime: 126.1 seconds RetCode: 0 Status: OK PackageFile: BicARE_1.64.0.tar.gz PackageFileSize: 461.4 KiB