Package: BicARE Version: 1.64.0 Command: rm -rf BicARE.buildbin-libdir && mkdir BicARE.buildbin-libdir && F:\biocbuild\bbs-3.20-bioc\R\bin\R.exe CMD INSTALL --build --library=BicARE.buildbin-libdir BicARE_1.64.0.tar.gz StartedAt: 2025-01-31 08:12:55 -0500 (Fri, 31 Jan 2025) EndedAt: 2025-01-31 08:13:23 -0500 (Fri, 31 Jan 2025) EllapsedTime: 27.2 seconds RetCode: 0 Status: OK PackageFile: BicARE_1.64.0.zip PackageFileSize: 384.6 KiB