Package: BicARE Version: 1.64.0 Command: /home/biocbuild/R/R/bin/R CMD build --keep-empty-dirs --no-resave-data BicARE StartedAt: 2025-01-30 21:54:10 -0000 (Thu, 30 Jan 2025) EndedAt: 2025-01-30 21:57:02 -0000 (Thu, 30 Jan 2025) EllapsedTime: 172.0 seconds RetCode: 0 Status: OK PackageFile: BicARE_1.64.0.tar.gz PackageFileSize: 451.1 KiB