Package: BioCartaImage Version: 1.4.0 Command: /Library/Frameworks/R.framework/Resources/bin/R CMD build --keep-empty-dirs --no-resave-data BioCartaImage StartedAt: 2025-01-30 19:37:21 -0500 (Thu, 30 Jan 2025) EndedAt: 2025-01-30 19:37:37 -0500 (Thu, 30 Jan 2025) EllapsedTime: 15.9 seconds RetCode: 0 Status: OK PackageFile: BioCartaImage_1.4.0.tar.gz PackageFileSize: 3.627 MiB