Package: BioCartaImage Version: 1.4.0 Command: rm -rf BioCartaImage.buildbin-libdir && mkdir BioCartaImage.buildbin-libdir && F:\biocbuild\bbs-3.20-bioc\R\bin\R.exe CMD INSTALL --build --library=BioCartaImage.buildbin-libdir BioCartaImage_1.4.0.tar.gz StartedAt: 2025-01-31 08:13:20 -0500 (Fri, 31 Jan 2025) EndedAt: 2025-01-31 08:13:39 -0500 (Fri, 31 Jan 2025) EllapsedTime: 19.7 seconds RetCode: 0 Status: OK PackageFile: BioCartaImage_1.4.0.zip PackageFileSize: 3.668 MiB