Package: BioCor Version: 1.30.0 Command: rm -rf BioCor.buildbin-libdir && mkdir BioCor.buildbin-libdir && /Users/biocbuild/BBS/utils/build-universal.sh BioCor_1.30.0.tar.gz /Library/Frameworks/R.framework/Resources/bin/R BioCor.buildbin-libdir StartedAt: 2025-02-05 14:58:37 -0500 (Wed, 05 Feb 2025) EndedAt: 2025-02-05 14:59:03 -0500 (Wed, 05 Feb 2025) EllapsedTime: 26.1 seconds RetCode: 0 Status: OK PackageFile: BioCor_1.30.0.tgz PackageFileSize: 1.69 MiB